BEGIN:VCALENDAR
VERSION:2.0
PRODID:-//Vaara-kirjastot - ECPv6.15.12.2//NONSGML v1.0//EN
CALSCALE:GREGORIAN
METHOD:PUBLISH
X-WR-CALNAME:Vaara-kirjastot
X-ORIGINAL-URL:https://blog.vaarakirjastot.fi
X-WR-CALDESC:Tapahtumat Vaara-kirjastot
REFRESH-INTERVAL;VALUE=DURATION:PT1H
X-Robots-Tag:noindex
X-PUBLISHED-TTL:PT1H
BEGIN:VTIMEZONE
TZID:Europe/Helsinki
BEGIN:DAYLIGHT
TZOFFSETFROM:+0200
TZOFFSETTO:+0300
TZNAME:EEST
DTSTART:20240331T010000
END:DAYLIGHT
BEGIN:STANDARD
TZOFFSETFROM:+0300
TZOFFSETTO:+0200
TZNAME:EET
DTSTART:20241027T010000
END:STANDARD
BEGIN:DAYLIGHT
TZOFFSETFROM:+0200
TZOFFSETTO:+0300
TZNAME:EEST
DTSTART:20250330T010000
END:DAYLIGHT
BEGIN:STANDARD
TZOFFSETFROM:+0300
TZOFFSETTO:+0200
TZNAME:EET
DTSTART:20251026T010000
END:STANDARD
BEGIN:DAYLIGHT
TZOFFSETFROM:+0200
TZOFFSETTO:+0300
TZNAME:EEST
DTSTART:20260329T010000
END:DAYLIGHT
BEGIN:STANDARD
TZOFFSETFROM:+0300
TZOFFSETTO:+0200
TZNAME:EET
DTSTART:20261025T010000
END:STANDARD
END:VTIMEZONE
BEGIN:VEVENT
DTSTART;TZID=Europe/Helsinki:20250804T100000
DTEND;TZID=Europe/Helsinki:20250828T160000
DTSTAMP:20260423T055818
CREATED:20250804T084254Z
LAST-MODIFIED:20250804T084254Z
UID:23860-1754301600-1756396800@blog.vaarakirjastot.fi
SUMMARY:Lupaus äidille - Ulla Pyykön näyttely
DESCRIPTION:Ulla Pyykön valokuvia ja puuväritöitä Lieksan kirjaston näyttelytilassa elokuun 2025 ajan. \nNäyttelytila on avoinna kirjaston aukioloaikoina ma-ti klo 10-18\, ke-pe klo 10-16. \nTervetuloa! \n 
URL:https://blog.vaarakirjastot.fi/event/lupaus-aidille-ulla-pyykon-nayttely/
LOCATION:Lieksan kirjasto\, Urheilukatu 4\, Lieksa\, 81700\, Suomi
CATEGORIES:Lieksa,nayttelyt,rss2
ORGANIZER;CN="Lieksan kirjasto":MAILTO:kirjasto@lieksa.fi
END:VEVENT
END:VCALENDAR