BEGIN:VCALENDAR
VERSION:2.0
PRODID:-//Vaara-kirjastot - ECPv6.15.12.2//NONSGML v1.0//EN
CALSCALE:GREGORIAN
METHOD:PUBLISH
X-ORIGINAL-URL:https://blog.vaarakirjastot.fi
X-WR-CALDESC:Tapahtumat Vaara-kirjastot
REFRESH-INTERVAL;VALUE=DURATION:PT1H
X-Robots-Tag:noindex
X-PUBLISHED-TTL:PT1H
BEGIN:VTIMEZONE
TZID:Europe/Helsinki
BEGIN:DAYLIGHT
TZOFFSETFROM:+0200
TZOFFSETTO:+0300
TZNAME:EEST
DTSTART:20250330T010000
END:DAYLIGHT
BEGIN:STANDARD
TZOFFSETFROM:+0300
TZOFFSETTO:+0200
TZNAME:EET
DTSTART:20251026T010000
END:STANDARD
BEGIN:DAYLIGHT
TZOFFSETFROM:+0200
TZOFFSETTO:+0300
TZNAME:EEST
DTSTART:20260329T010000
END:DAYLIGHT
BEGIN:STANDARD
TZOFFSETFROM:+0300
TZOFFSETTO:+0200
TZNAME:EET
DTSTART:20261025T010000
END:STANDARD
BEGIN:DAYLIGHT
TZOFFSETFROM:+0200
TZOFFSETTO:+0300
TZNAME:EEST
DTSTART:20270328T010000
END:DAYLIGHT
BEGIN:STANDARD
TZOFFSETFROM:+0300
TZOFFSETTO:+0200
TZNAME:EET
DTSTART:20271031T010000
END:STANDARD
END:VTIMEZONE
BEGIN:VEVENT
DTSTART;TZID=Europe/Helsinki:20260401T150000
DTEND;TZID=Europe/Helsinki:20260429T170000
DTSTAMP:20260422T170539
CREATED:20260326T112859Z
LAST-MODIFIED:20260326T112859Z
UID:27398-1775055600-1777482000@blog.vaarakirjastot.fi
SUMMARY:Valokuvanäyttely Wanhoja kuvia Höljäkästä
DESCRIPTION:Nurmeksen pääkirjastossa on esillä vanhoja valokuvia Höljäkästä koko huhtikuun ajan. Tervetuloa!
URL:https://blog.vaarakirjastot.fi/event/valokuvanayttely-wanhoja-kuvia-holjakasta/
LOCATION:Nurmeksen pääkirjasto\, Kötsintie 2\, Nurmes\, 75500\, Suomi
CATEGORIES:nayttelyt,Nurmes,rss2
END:VEVENT
END:VCALENDAR