BEGIN:VCALENDAR
VERSION:2.0
PRODID:-//Vaara-kirjastot - ECPv6.15.12.2//NONSGML v1.0//EN
CALSCALE:GREGORIAN
METHOD:PUBLISH
X-WR-CALNAME:Vaara-kirjastot
X-ORIGINAL-URL:https://blog.vaarakirjastot.fi
X-WR-CALDESC:Tapahtumat Vaara-kirjastot
REFRESH-INTERVAL;VALUE=DURATION:PT1H
X-Robots-Tag:noindex
X-PUBLISHED-TTL:PT1H
BEGIN:VTIMEZONE
TZID:Europe/Helsinki
BEGIN:DAYLIGHT
TZOFFSETFROM:+0200
TZOFFSETTO:+0300
TZNAME:EEST
DTSTART:20240331T010000
END:DAYLIGHT
BEGIN:STANDARD
TZOFFSETFROM:+0300
TZOFFSETTO:+0200
TZNAME:EET
DTSTART:20241027T010000
END:STANDARD
BEGIN:DAYLIGHT
TZOFFSETFROM:+0200
TZOFFSETTO:+0300
TZNAME:EEST
DTSTART:20250330T010000
END:DAYLIGHT
BEGIN:STANDARD
TZOFFSETFROM:+0300
TZOFFSETTO:+0200
TZNAME:EET
DTSTART:20251026T010000
END:STANDARD
BEGIN:DAYLIGHT
TZOFFSETFROM:+0200
TZOFFSETTO:+0300
TZNAME:EEST
DTSTART:20260329T010000
END:DAYLIGHT
BEGIN:STANDARD
TZOFFSETFROM:+0300
TZOFFSETTO:+0200
TZNAME:EET
DTSTART:20261025T010000
END:STANDARD
END:VTIMEZONE
BEGIN:VEVENT
DTSTART;TZID=Europe/Helsinki:20250618T093000
DTEND;TZID=Europe/Helsinki:20250625T100000
DTSTAMP:20260419T163254
CREATED:20250613T131319Z
LAST-MODIFIED:20250613T131714Z
UID:23592-1750239000-1750845600@blog.vaarakirjastot.fi
SUMMARY:Ylimääräiset satutunnit Joensuun lähikirjastoissa
DESCRIPTION:Yleisön pyynnöstä järjestetään vielä kesäiset satutunnit Rantakylän\, Karsikon ja Nepenmäen kirjastoissa ennen kesätaukoa. \nRantakylässä keskiviikkona 18.6. klo 9.30-10 \nKarsikossa torstaina 19.6. klo 9.30-10 \nNepenmäellä keskiviikkona 25.6. klo 9.30-10. \nLämpimästi tervetuloa satumaailmoihin!
URL:https://blog.vaarakirjastot.fi/event/ylimaaraiset-satutunnit-joensuun-lahikirjastoissa/
LOCATION:Joensuun lähikirjastot\, Joensuu\, Finland
CATEGORIES:Karsikko,lapset,Nepenmäki,Rantakylä,rss2
ATTACH;FMTTYPE=image/jpeg:https://blog.vaarakirjastot.fi/wp-content/uploads/2025/06/IMG-20241106-WA0012-e1749820530375.jpg
ORGANIZER;CN="Joensuun l%C3%A4hikirjastot":MAILTO:jnslahikset@gmail.com
END:VEVENT
END:VCALENDAR