BEGIN:VCALENDAR
VERSION:2.0
PRODID:-//Vaara-kirjastot - ECPv6.15.12.2//NONSGML v1.0//EN
CALSCALE:GREGORIAN
METHOD:PUBLISH
X-ORIGINAL-URL:https://blog.vaarakirjastot.fi
X-WR-CALDESC:Tapahtumat Vaara-kirjastot
REFRESH-INTERVAL;VALUE=DURATION:PT1H
X-Robots-Tag:noindex
X-PUBLISHED-TTL:PT1H
BEGIN:VTIMEZONE
TZID:Europe/Helsinki
BEGIN:DAYLIGHT
TZOFFSETFROM:+0200
TZOFFSETTO:+0300
TZNAME:EEST
DTSTART:20240331T010000
END:DAYLIGHT
BEGIN:STANDARD
TZOFFSETFROM:+0300
TZOFFSETTO:+0200
TZNAME:EET
DTSTART:20241027T010000
END:STANDARD
BEGIN:DAYLIGHT
TZOFFSETFROM:+0200
TZOFFSETTO:+0300
TZNAME:EEST
DTSTART:20250330T010000
END:DAYLIGHT
BEGIN:STANDARD
TZOFFSETFROM:+0300
TZOFFSETTO:+0200
TZNAME:EET
DTSTART:20251026T010000
END:STANDARD
BEGIN:DAYLIGHT
TZOFFSETFROM:+0200
TZOFFSETTO:+0300
TZNAME:EEST
DTSTART:20260329T010000
END:DAYLIGHT
BEGIN:STANDARD
TZOFFSETFROM:+0300
TZOFFSETTO:+0200
TZNAME:EET
DTSTART:20261025T010000
END:STANDARD
END:VTIMEZONE
BEGIN:VEVENT
DTSTART;TZID=Europe/Helsinki:20250512T160000
DTEND;TZID=Europe/Helsinki:20250512T180000
DTSTAMP:20260421T150000
CREATED:20250317T072005Z
LAST-MODIFIED:20250317T072005Z
UID:22664-1747065600-1747072800@blog.vaarakirjastot.fi
SUMMARY:Villahuvit - Lieksan kirjaston käsityöpiiri
DESCRIPTION:Villahuvit\, Lieksan kirjaston oma käsityöpiiri\, kokoontuu keväällä 2025 aina joka kuun ensimmäisenä (mahdollisena) maanantaina kello 16-18. Kokoonnumme kirjaston 2. kerroksen Mummola-huoneessa.\n\nKokoontumispäivämäärät:\nma 7.4.2025 klo 16-18\nma 12.5.2025 klo 16-18 (Huom.! Poikkeava päivämäärä)\n\nOta mukaan keskeneräinen työsi tai aloita uusi. Kehrää\, neulo\, virkkaa\, ompele\, kirjo… Piipahda koko ajaksi tai pieneksi tuokioksi. Ei siis haittaa\, jos myöhästyt aloitusajasta tai joudut lähtemään aikaisemmin! Tule yhteen kokoontumiseen tai ala vakiokävijäksi. Rupatellaan\, jaetaan kokemuksia\, annetaan vertaistukea ja -opastusta\, tutustutaan kirjaston käsityökirjoihin ja hörpätään kahvit.\nTervetuloa!
URL:https://blog.vaarakirjastot.fi/event/villahuvit-lieksan-kirjaston-kasityopiiri-5/
LOCATION:Lieksan kirjasto\, Urheilukatu 4\, Lieksa\, 81700\, Suomi
CATEGORIES:Lieksa,muu_tapahtuma,rss2
ORGANIZER;CN="Lieksan kirjasto":MAILTO:kirjasto@lieksa.fi
END:VEVENT
END:VCALENDAR