BEGIN:VCALENDAR
VERSION:2.0
PRODID:-//Vaara-kirjastot - ECPv6.15.12.2//NONSGML v1.0//EN
CALSCALE:GREGORIAN
METHOD:PUBLISH
X-WR-CALNAME:Vaara-kirjastot
X-ORIGINAL-URL:https://blog.vaarakirjastot.fi
X-WR-CALDESC:Tapahtumat Vaara-kirjastot
REFRESH-INTERVAL;VALUE=DURATION:PT1H
X-Robots-Tag:noindex
X-PUBLISHED-TTL:PT1H
BEGIN:VTIMEZONE
TZID:Europe/Helsinki
BEGIN:DAYLIGHT
TZOFFSETFROM:+0200
TZOFFSETTO:+0300
TZNAME:EEST
DTSTART:20240331T010000
END:DAYLIGHT
BEGIN:STANDARD
TZOFFSETFROM:+0300
TZOFFSETTO:+0200
TZNAME:EET
DTSTART:20241027T010000
END:STANDARD
BEGIN:DAYLIGHT
TZOFFSETFROM:+0200
TZOFFSETTO:+0300
TZNAME:EEST
DTSTART:20250330T010000
END:DAYLIGHT
BEGIN:STANDARD
TZOFFSETFROM:+0300
TZOFFSETTO:+0200
TZNAME:EET
DTSTART:20251026T010000
END:STANDARD
BEGIN:DAYLIGHT
TZOFFSETFROM:+0200
TZOFFSETTO:+0300
TZNAME:EEST
DTSTART:20260329T010000
END:DAYLIGHT
BEGIN:STANDARD
TZOFFSETFROM:+0300
TZOFFSETTO:+0200
TZNAME:EET
DTSTART:20261025T010000
END:STANDARD
END:VTIMEZONE
BEGIN:VEVENT
DTSTART;TZID=Europe/Helsinki:20250509T150000
DTEND;TZID=Europe/Helsinki:20250509T154500
DTSTAMP:20260422T053855
CREATED:20250108T141210Z
LAST-MODIFIED:20250108T141210Z
UID:21871-1746802800-1746805500@blog.vaarakirjastot.fi
SUMMARY:Kielikahvila
DESCRIPTION:Tule juttelemaan suomeksi Lieksan kirjaston ja Lieksan Tukipisteen kielikahvilaan. Puhumme suomea rennossa seurassa. Sujuva kielitaito ei ole vaatimus\, eikä este. Tervetuloa\, niin aloittelijat kuin suomea äidinkielenään puhuvatkin! Kokoonnumme joka toinen viikko Tukipisteellä\, joka toinen viikko kirjaston 2. kerroksessa. \n\nKokoontumiset kirjastossa kello 15-15.45.: 17.1.\, 31.1.\, 14.2.\, 28.2.\, 14.3. 28.3\, 11.4.\, 25.4.\, 9.5.\, 23.5. \n*** \n\nCome speak Finnish in the Language Café of Lieksa Library and Lieksan Tukipiste. We’ll speak Finnish in a laid-back atmosphere. Fluency is neither required nor forbidden. Both beginners and native Finnish speakers are most welcome! We meet every other week at Tukipiste and every other week at the library’s 2nd floor. \n*** \n\nПриходите поговорить на финском языке в Языковом кафе библиотеки Лиекса и Lieksan Tukipiste. Мы говорим по-фински расслабленно. Свободное владение языком не является ни требованием\, ни препятствием. Добро пожаловать как новички\, так и носители финского языка! Встречаемся раз в две недели на Tukipiste\, a раз в две недели на втором этаже библиотеки.
URL:https://blog.vaarakirjastot.fi/event/kielikahvila-9/
LOCATION:Lieksan kirjasto\, Urheilukatu 4\, Lieksa\, 81700\, Suomi
CATEGORIES:Lieksa,muu_tapahtuma,rss2
ORGANIZER;CN="Lieksan kirjasto":MAILTO:kirjasto@lieksa.fi
END:VEVENT
END:VCALENDAR