BEGIN:VCALENDAR
VERSION:2.0
PRODID:-//Vaara-kirjastot - ECPv6.15.12.2//NONSGML v1.0//EN
CALSCALE:GREGORIAN
METHOD:PUBLISH
X-WR-CALNAME:Vaara-kirjastot
X-ORIGINAL-URL:https://blog.vaarakirjastot.fi
X-WR-CALDESC:Tapahtumat Vaara-kirjastot
REFRESH-INTERVAL;VALUE=DURATION:PT1H
X-Robots-Tag:noindex
X-PUBLISHED-TTL:PT1H
BEGIN:VTIMEZONE
TZID:Europe/Helsinki
BEGIN:DAYLIGHT
TZOFFSETFROM:+0200
TZOFFSETTO:+0300
TZNAME:EEST
DTSTART:20240331T010000
END:DAYLIGHT
BEGIN:STANDARD
TZOFFSETFROM:+0300
TZOFFSETTO:+0200
TZNAME:EET
DTSTART:20241027T010000
END:STANDARD
BEGIN:DAYLIGHT
TZOFFSETFROM:+0200
TZOFFSETTO:+0300
TZNAME:EEST
DTSTART:20250330T010000
END:DAYLIGHT
BEGIN:STANDARD
TZOFFSETFROM:+0300
TZOFFSETTO:+0200
TZNAME:EET
DTSTART:20251026T010000
END:STANDARD
BEGIN:DAYLIGHT
TZOFFSETFROM:+0200
TZOFFSETTO:+0300
TZNAME:EEST
DTSTART:20260329T010000
END:DAYLIGHT
BEGIN:STANDARD
TZOFFSETFROM:+0300
TZOFFSETTO:+0200
TZNAME:EET
DTSTART:20261025T010000
END:STANDARD
END:VTIMEZONE
BEGIN:VEVENT
DTSTART;TZID=Europe/Helsinki:20250403T130000
DTEND;TZID=Europe/Helsinki:20250403T150000
DTSTAMP:20260422T010307
CREATED:20250328T131945Z
LAST-MODIFIED:20250328T131945Z
UID:22832-1743685200-1743692400@blog.vaarakirjastot.fi
SUMMARY:Nalleneuvola Rantakylän kirjastossa 3.4.2025
DESCRIPTION:Tuo nallesi tai muu rakas lelusi saamaan hoitoa Nalleneuvolaan! Karelia AMK:n Tarmo-opiskelijat pitävät asiantuntevaa neuvolaa Rantakylän kirjastossa torstaina 3.4. klo 13-15. Tervetuloa!
URL:https://blog.vaarakirjastot.fi/event/nalleneuvola-rantakylan-kirjastossa-3-4-2025/
LOCATION:Rantakylän kirjasto\, Pataluodonkatu 2\, Joensuu\, 80160
CATEGORIES:lapset,Rantakylä,rss2
ORGANIZER;CN="Joensuun l%C3%A4hikirjastot":MAILTO:jnslahikset@gmail.com
END:VEVENT
BEGIN:VEVENT
DTSTART;TZID=Europe/Helsinki:20250423T093000
DTEND;TZID=Europe/Helsinki:20250423T120000
DTSTAMP:20260422T010307
CREATED:20250416T095256Z
LAST-MODIFIED:20250416T095256Z
UID:23064-1745400600-1745409600@blog.vaarakirjastot.fi
SUMMARY:Runokoira Pentti ja Miljoonasirkus Rantakylän kirjastossa
DESCRIPTION:Pohjois-Karjalan Lastenkulttuuriverkosto tuo Anneli Mahlamäen mainion Runokoira Pentti ja Miljoonasirkus -esityksen Rantakylän kirjastoon ke 23.4.2025. \nEsitykset ovat klo 9.30 (korvaa satutunnin) ja 11.15. ja kestävät n.30 min. \nEsitys sopii ihan kaikille\, mutta kaikkein parhaiten n. 0-9 -vuotiaille. \nHau hau ja lämpimästi tervetuloa!
URL:https://blog.vaarakirjastot.fi/event/runokoira-pentti-ja-miljoonasirkus-rantakylan-kirjastossa/
LOCATION:Rantakylän kirjasto\, Pataluodonkatu 2\, Joensuu\, 80160
CATEGORIES:lapset,Rantakylä,rss2
ORGANIZER;CN="Joensuun l%C3%A4hikirjastot":MAILTO:jnslahikset@gmail.com
END:VEVENT
END:VCALENDAR