BEGIN:VCALENDAR
VERSION:2.0
PRODID:-//Vaara-kirjastot - ECPv6.15.12.2//NONSGML v1.0//EN
CALSCALE:GREGORIAN
METHOD:PUBLISH
X-WR-CALNAME:Vaara-kirjastot
X-ORIGINAL-URL:https://blog.vaarakirjastot.fi
X-WR-CALDESC:Tapahtumat Vaara-kirjastot
REFRESH-INTERVAL;VALUE=DURATION:PT1H
X-Robots-Tag:noindex
X-PUBLISHED-TTL:PT1H
BEGIN:VTIMEZONE
TZID:Europe/Helsinki
BEGIN:DAYLIGHT
TZOFFSETFROM:+0200
TZOFFSETTO:+0300
TZNAME:EEST
DTSTART:20250330T010000
END:DAYLIGHT
BEGIN:STANDARD
TZOFFSETFROM:+0300
TZOFFSETTO:+0200
TZNAME:EET
DTSTART:20251026T010000
END:STANDARD
BEGIN:DAYLIGHT
TZOFFSETFROM:+0200
TZOFFSETTO:+0300
TZNAME:EEST
DTSTART:20260329T010000
END:DAYLIGHT
BEGIN:STANDARD
TZOFFSETFROM:+0300
TZOFFSETTO:+0200
TZNAME:EET
DTSTART:20261025T010000
END:STANDARD
BEGIN:DAYLIGHT
TZOFFSETFROM:+0200
TZOFFSETTO:+0300
TZNAME:EEST
DTSTART:20270328T010000
END:DAYLIGHT
BEGIN:STANDARD
TZOFFSETFROM:+0300
TZOFFSETTO:+0200
TZNAME:EET
DTSTART:20271031T010000
END:STANDARD
END:VTIMEZONE
BEGIN:VEVENT
DTSTART;TZID=Europe/Helsinki:20260319T100000
DTEND;TZID=Europe/Helsinki:20260319T160000
DTSTAMP:20260423T005513
CREATED:20260310T072036Z
LAST-MODIFIED:20260310T072036Z
UID:27114-1773914400-1773936000@blog.vaarakirjastot.fi
SUMMARY:Kirjaston päivä Lieksan kirjastossa
DESCRIPTION:Torstaina 19.3.2026 vietetään Kirjaston päivää.\n\nPäivän mittaan esittelemme ala-aulassa kirjaston kokoelmia ja palveluita. Julkistamme myös Lieksan kirjaston ystävän 2026!\nKahvi- ja teetarjoilu.\n\nTervetuloa!
URL:https://blog.vaarakirjastot.fi/event/kirjaston-paiva-lieksan-kirjastossa/
LOCATION:Lieksan kirjasto\, Urheilukatu 4\, Lieksa\, 81700\, Suomi
CATEGORIES:Lieksa,muu_tapahtuma,rss2
ORGANIZER;CN="Lieksan kirjasto":MAILTO:kirjasto@lieksa.fi
END:VEVENT
END:VCALENDAR