BEGIN:VCALENDAR
VERSION:2.0
PRODID:-//Vaara-kirjastot - ECPv6.15.12.2//NONSGML v1.0//EN
CALSCALE:GREGORIAN
METHOD:PUBLISH
X-WR-CALNAME:Vaara-kirjastot
X-ORIGINAL-URL:https://blog.vaarakirjastot.fi
X-WR-CALDESC:Tapahtumat Vaara-kirjastot
REFRESH-INTERVAL;VALUE=DURATION:PT1H
X-Robots-Tag:noindex
X-PUBLISHED-TTL:PT1H
BEGIN:VTIMEZONE
TZID:Europe/Helsinki
BEGIN:DAYLIGHT
TZOFFSETFROM:+0200
TZOFFSETTO:+0300
TZNAME:EEST
DTSTART:20240331T010000
END:DAYLIGHT
BEGIN:STANDARD
TZOFFSETFROM:+0300
TZOFFSETTO:+0200
TZNAME:EET
DTSTART:20241027T010000
END:STANDARD
BEGIN:DAYLIGHT
TZOFFSETFROM:+0200
TZOFFSETTO:+0300
TZNAME:EEST
DTSTART:20250330T010000
END:DAYLIGHT
BEGIN:STANDARD
TZOFFSETFROM:+0300
TZOFFSETTO:+0200
TZNAME:EET
DTSTART:20251026T010000
END:STANDARD
BEGIN:DAYLIGHT
TZOFFSETFROM:+0200
TZOFFSETTO:+0300
TZNAME:EEST
DTSTART:20260329T010000
END:DAYLIGHT
BEGIN:STANDARD
TZOFFSETFROM:+0300
TZOFFSETTO:+0200
TZNAME:EET
DTSTART:20261025T010000
END:STANDARD
END:VTIMEZONE
BEGIN:VEVENT
DTSTART;TZID=Europe/Helsinki:20251030T153000
DTEND;TZID=Europe/Helsinki:20251030T180000
DTSTAMP:20260425T004900
CREATED:20251007T133730Z
LAST-MODIFIED:20251008T103950Z
UID:24874-1761838200-1761847200@blog.vaarakirjastot.fi
SUMMARY:Kekriween
DESCRIPTION:Böö! Kekrin ja Halloweenin perinteitä yhdistävät Kekriweenkekkerit Lieksan kirjastossa torstaina 30.10.2025 kello 15.30-18! Ohjelmassa kaikkea karmivaa niin lapsille kuin aikuisillekin:\n\n\nKello 16-18 Kekripinssien tekoa\, lasten ja nuorten osasto\n\n  \n\nKello 15:30 Asiantuntijavieraana Annamari Liuha\, matineatila.Nurmeslainen karjalaisen kansanperinteen tuntija saapuu luennoimaan kuolemarituaaleista karjalaisessa perinteessä.\n\n  \n\nKello 16:45 Kauhuvinkkaus\, matineatila.\n\n  \n\nKello 17:00 Kirjailijavieraana Iiro Meriläinen\, matineatila.Lieksalaislähtöinen kirjailija tulee kertomaan kauhua\, jännitystä ja huumoria yhdistävästä romaanitrilogiastaan.\n\n\nKoko tapahtuman ajan: \n\nLuuranko Saima Karmaja\, runoilija\nKauhuvinkkiseinä\nTulevan vuoden ennustuspiste\nKammottavia värityskuvia kaikenikäisille\nArvonta\n\nErittäin vähän tervetuloa!
URL:https://blog.vaarakirjastot.fi/event/kekriween/
LOCATION:Lieksan kirjasto\, Urheilukatu 4\, Lieksa\, 81700\, Suomi
CATEGORIES:lapset,Lieksa,muu_tapahtuma,rss2
ORGANIZER;CN="Lieksan kirjasto":MAILTO:kirjasto@lieksa.fi
END:VEVENT
END:VCALENDAR