BEGIN:VCALENDAR
VERSION:2.0
PRODID:-//Vaara-kirjastot - ECPv6.15.12.2//NONSGML v1.0//EN
CALSCALE:GREGORIAN
METHOD:PUBLISH
X-WR-CALNAME:Vaara-kirjastot
X-ORIGINAL-URL:https://blog.vaarakirjastot.fi
X-WR-CALDESC:Tapahtumat Vaara-kirjastot
REFRESH-INTERVAL;VALUE=DURATION:PT1H
X-Robots-Tag:noindex
X-PUBLISHED-TTL:PT1H
BEGIN:VTIMEZONE
TZID:Europe/Helsinki
BEGIN:DAYLIGHT
TZOFFSETFROM:+0200
TZOFFSETTO:+0300
TZNAME:EEST
DTSTART:20240331T010000
END:DAYLIGHT
BEGIN:STANDARD
TZOFFSETFROM:+0300
TZOFFSETTO:+0200
TZNAME:EET
DTSTART:20241027T010000
END:STANDARD
BEGIN:DAYLIGHT
TZOFFSETFROM:+0200
TZOFFSETTO:+0300
TZNAME:EEST
DTSTART:20250330T010000
END:DAYLIGHT
BEGIN:STANDARD
TZOFFSETFROM:+0300
TZOFFSETTO:+0200
TZNAME:EET
DTSTART:20251026T010000
END:STANDARD
BEGIN:DAYLIGHT
TZOFFSETFROM:+0200
TZOFFSETTO:+0300
TZNAME:EEST
DTSTART:20260329T010000
END:DAYLIGHT
BEGIN:STANDARD
TZOFFSETFROM:+0300
TZOFFSETTO:+0200
TZNAME:EET
DTSTART:20261025T010000
END:STANDARD
END:VTIMEZONE
BEGIN:VEVENT
DTSTART;TZID=Europe/Helsinki:20250319T100000
DTEND;TZID=Europe/Helsinki:20250319T180000
DTSTAMP:20260424T092534
CREATED:20250314T103338Z
LAST-MODIFIED:20250314T103352Z
UID:22645-1742378400-1742407200@blog.vaarakirjastot.fi
SUMMARY:Kirjaston päivä Lieksassa
DESCRIPTION:Kirjaston päivää juhlitaan 19.3. yhdessä Minna Canthin ja tasa-arvon päivän kanssa.\n\n\n\nLieksan kirjaston ohjelma päivälle:\nklo 12–13 Kirjankorjauslive kirjaston Facebook-sivulla – Seuraa kirjojen korjausta ja kysele vaikka kirjaston palveluista!\nklo 13–15 Kahvi- ja mehutarjoilu asiakkaille\nklo 17–18 Kirjaston päivän suuri kirjastokeskustelu – seuraamme Turusta lähetettävää striimiä matineatilassa (huom! osallistuakseen tarvitsee omatoimisopimuksen)\n\n\n\nKoko päivän ajan: Miksi kirjasto on minulle tärkeä -sermi\, johon voi jättää omat terveiset kirjaston merkityksestä itselle.\n\n\nJa lisäksi vuoden 2025 Lieksan kirjaston ystävän julkistus – seuraa meidän somea!
URL:https://blog.vaarakirjastot.fi/event/lieksan-kirjaston-kirjaston-paiva/
LOCATION:Lieksan kirjasto\, Urheilukatu 4\, Lieksa\, 81700\, Suomi
CATEGORIES:Lieksa,muu_tapahtuma,rss2
ORGANIZER;CN="Lieksan kirjasto":MAILTO:kirjasto@lieksa.fi
END:VEVENT
END:VCALENDAR