BEGIN:VCALENDAR
VERSION:2.0
PRODID:-//Vaara-kirjastot - ECPv6.15.12.2//NONSGML v1.0//EN
CALSCALE:GREGORIAN
METHOD:PUBLISH
X-ORIGINAL-URL:https://blog.vaarakirjastot.fi
X-WR-CALDESC:Tapahtumat Vaara-kirjastot
REFRESH-INTERVAL;VALUE=DURATION:PT1H
X-Robots-Tag:noindex
X-PUBLISHED-TTL:PT1H
BEGIN:VTIMEZONE
TZID:Europe/Helsinki
BEGIN:DAYLIGHT
TZOFFSETFROM:+0200
TZOFFSETTO:+0300
TZNAME:EEST
DTSTART:20230326T010000
END:DAYLIGHT
BEGIN:STANDARD
TZOFFSETFROM:+0300
TZOFFSETTO:+0200
TZNAME:EET
DTSTART:20231029T010000
END:STANDARD
BEGIN:DAYLIGHT
TZOFFSETFROM:+0200
TZOFFSETTO:+0300
TZNAME:EEST
DTSTART:20240331T010000
END:DAYLIGHT
BEGIN:STANDARD
TZOFFSETFROM:+0300
TZOFFSETTO:+0200
TZNAME:EET
DTSTART:20241027T010000
END:STANDARD
BEGIN:DAYLIGHT
TZOFFSETFROM:+0200
TZOFFSETTO:+0300
TZNAME:EEST
DTSTART:20250330T010000
END:DAYLIGHT
BEGIN:STANDARD
TZOFFSETFROM:+0300
TZOFFSETTO:+0200
TZNAME:EET
DTSTART:20251026T010000
END:STANDARD
END:VTIMEZONE
BEGIN:VEVENT
DTSTART;TZID=Europe/Helsinki:20241201T100000
DTEND;TZID=Europe/Helsinki:20241231T160000
DTSTAMP:20260421T110413
CREATED:20241127T084321Z
LAST-MODIFIED:20241127T084321Z
UID:21388-1733047200-1735660800@blog.vaarakirjastot.fi
SUMMARY:Joulukalenterihylly
DESCRIPTION:Viime vuodelta tuttu Lieksan kirjaston joulukalenterihylly tulee taas!\n\n\nAskartele kalenteriin sisältöä tai tule ihastelemaan muiden aikaansaannoksia. Kalenteri on ihasteltavissa joulukuun ajan – myös omatoimiaikana.\n\n\nAskartele jouluinen asetelma\, koristeita tai jotakin ihan muuta jouluista. Varaa oma luukkusi kirjaston asiakaspalvelusta. Ja ilahduta näin taidoillasi muita joulun ystäviä. (Luukun mitat ovat noin: leveys 37 cm\, syvyys 22 cm ja korkeus 24 cm)\n\n\nPäätä myös jo valmiiksi\, haluatko noutaa teoksesi joulun jälkeen itsellesi\, vai haluatko lahjoittaa sen kirjastolle tulevia jouluja varten!
URL:https://blog.vaarakirjastot.fi/event/joulukalenterihylly/
LOCATION:Lieksan kirjasto\, Urheilukatu 4\, Lieksa\, 81700\, Suomi
CATEGORIES:lapset,Lieksa,muu_tapahtuma,rss2
ORGANIZER;CN="Lieksan kirjasto":MAILTO:kirjasto@lieksa.fi
END:VEVENT
END:VCALENDAR