BEGIN:VCALENDAR
VERSION:2.0
PRODID:-//Vaara-kirjastot - ECPv6.15.12.2//NONSGML v1.0//EN
CALSCALE:GREGORIAN
METHOD:PUBLISH
X-WR-CALNAME:Vaara-kirjastot
X-ORIGINAL-URL:https://blog.vaarakirjastot.fi
X-WR-CALDESC:Tapahtumat Vaara-kirjastot
REFRESH-INTERVAL;VALUE=DURATION:PT1H
X-Robots-Tag:noindex
X-PUBLISHED-TTL:PT1H
BEGIN:VTIMEZONE
TZID:Europe/Helsinki
BEGIN:DAYLIGHT
TZOFFSETFROM:+0200
TZOFFSETTO:+0300
TZNAME:EEST
DTSTART:20250330T010000
END:DAYLIGHT
BEGIN:STANDARD
TZOFFSETFROM:+0300
TZOFFSETTO:+0200
TZNAME:EET
DTSTART:20251026T010000
END:STANDARD
BEGIN:DAYLIGHT
TZOFFSETFROM:+0200
TZOFFSETTO:+0300
TZNAME:EEST
DTSTART:20260329T010000
END:DAYLIGHT
BEGIN:STANDARD
TZOFFSETFROM:+0300
TZOFFSETTO:+0200
TZNAME:EET
DTSTART:20261025T010000
END:STANDARD
BEGIN:DAYLIGHT
TZOFFSETFROM:+0200
TZOFFSETTO:+0300
TZNAME:EEST
DTSTART:20270328T010000
END:DAYLIGHT
BEGIN:STANDARD
TZOFFSETFROM:+0300
TZOFFSETTO:+0200
TZNAME:EET
DTSTART:20271031T010000
END:STANDARD
END:VTIMEZONE
BEGIN:VEVENT
DTSTART;TZID=Europe/Helsinki:20260101T080000
DTEND;TZID=Europe/Helsinki:20260531T180000
DTSTAMP:20260422T013331
CREATED:20230823T110230Z
LAST-MODIFIED:20251223T052253Z
UID:16247-1767254400-1780250400@blog.vaarakirjastot.fi
SUMMARY:Satutunnit
DESCRIPTION:Kirjastojen satutunnit ovat maksuttomia ja avoimia tapahtumia\, joihin ei tarvitse ilmoittautua ennakkoon. \nTervetuloa satutunnille lähimpään kirjastoosi! Kaikki Vaara-kirjastojen satutunnit näet tältä sivulta.
URL:https://blog.vaarakirjastot.fi/event/satutunnit-3/
CATEGORIES:lapset,rss2
END:VEVENT
BEGIN:VEVENT
DTSTART;TZID=Europe/Helsinki:20260105T000100
DTEND;TZID=Europe/Helsinki:20260430T235900
DTSTAMP:20260422T013331
CREATED:20251229T100737Z
LAST-MODIFIED:20251229T101149Z
UID:26029-1767571260-1777593540@blog.vaarakirjastot.fi
SUMMARY:Vaihtopiste
DESCRIPTION:VAIHTOPISTEET keväällä 2026 \nEnon\, Uimaharjun\, Kontiolahden ja Lehmon kirjastoissa! \nKuukausittain vaihtuvat teemat: \n\nPalapelit / tammikuu\nLangat / helmikuu\nLautapelit / maaliskuu\nViherkasvit\, -pistokkaat / huhtikuu\n\nTuo ylimääräiset pala- ja lautapelisi\, viherkasvisi ja -pistokkaasi sekä neulelankasi muiden iloksi! \nHuom. vaihtopisteelle saa tuoda vain siistejä ja ehjiä tuotteita. \nAlla tarkempia ohjeita. \nPALA- JA LAUTAPELIT \n\nTuo ylimääräiset pala- ja lautapelisi muiden pelaajien iloksi!\nOta vaihdossa maksimissaan yhtä monta peliä\, kun toit. Voit olla myös ottamatta vaihdossa uusia pelejä.\nTuo pelejä\, joissa on kaikki palat / osat tallella. Voit tuoda myös pelejä\, joista puuttuu max 1-2 palaa/osaa\, mutta merkitsethän tällöin puuttuvien palojen/osien määrän pelin kanteen.\nPisteelle saa tuoda kaikenlaisia pelejä – aikuisten\, lasten\, helppoja ja vaikeita! Kunhan ne ovat ehjiä ja siistejä.\nOtathan pelejä vain koottavaksi\, etkä esimerkiksi myytäväksi.\n\n  \nLANGAT \n\nTuo sinulle ylimääräisiä neule- ja virkkauslankoja tai kerän loppuja ja ota tilalle uusia.\nHuom. Tuothan vain puhtaita\, ehjiä ja hajuttomia lankoja!\n\n  \nVIHERKASVIT \n\nTuo vaihtopöydälle viherkasvipistokas tai kokonainen viherkasvi.\nHalutessasi valitse itsellesi kasvi kotiin viemiseksi.\nHuom. Tuothan vain terveitä kasveja
URL:https://blog.vaarakirjastot.fi/event/vaihtopiste-2/
CATEGORIES:muu_tapahtuma,rss2
END:VEVENT
BEGIN:VEVENT
DTSTART;TZID=Europe/Helsinki:20260316T100000
DTEND;TZID=Europe/Helsinki:20260429T150000
DTSTAMP:20260422T013331
CREATED:20260325T092345Z
LAST-MODIFIED:20260325T092345Z
UID:27391-1773655200-1777474800@blog.vaarakirjastot.fi
SUMMARY:Taiteesta tunteeksi
DESCRIPTION:Taiteesta tunteeksi -näyttely Rääkkylän kirjastolla 16.3.-29.4.2026 \nEsillä maisema-aiheisia -taideteoskopioita Joensuun taidemuseon\, Pohjois-Karjalan museon ja Joensuun kaupungin kokoelmista. \nNäyttely on koottu Vaara-kirjastojen lainattavista Tunnet sie -näyttelylaukuista Teemalaukut | Vaara-kirjastot \nTervetuloa tutustumaan!
URL:https://blog.vaarakirjastot.fi/event/taiteesta-tunteeksi/
LOCATION:Rääkkylän kirjasto\, Kinnulantie 2\, Rääkkylä\, 82300\, Suomi
CATEGORIES:nayttelyt,Rääkkylä,rss2
END:VEVENT
BEGIN:VEVENT
DTSTART;TZID=Europe/Helsinki:20260326T080000
DTEND;TZID=Europe/Helsinki:20260430T170000
DTSTAMP:20260422T013331
CREATED:20260317T113346Z
LAST-MODIFIED:20260317T113346Z
UID:27260-1774512000-1777568400@blog.vaarakirjastot.fi
SUMMARY:MIMIK-valokuvanäyttely Virpi Eronen
DESCRIPTION:MIMIK-valokuvanäyttely Virpi Eronen \nYlämyllyn kirjasto \nNäyttelyn kesto 26.3.-30.4.
URL:https://blog.vaarakirjastot.fi/event/mimik-valokuvanayttely-virpi-eronen/
LOCATION:Ylämyllyn kirjasto\, Laavupolku 2\, Ylämylly\, 80400\, Suomi
CATEGORIES:nayttelyt,rss2,Ylämylly
END:VEVENT
BEGIN:VEVENT
DTSTART;TZID=Europe/Helsinki:20260331T000000
DTEND;TZID=Europe/Helsinki:20260426T000000
DTSTAMP:20260422T013331
CREATED:20260330T133109Z
LAST-MODIFIED:20260401T045136Z
UID:27445-1774915200-1777161600@blog.vaarakirjastot.fi
SUMMARY:Viiva\, väri & viriö ja saviset haaveet
DESCRIPTION:Tohmajärven kansalaisopiston Laura Palmin kudonta-\,\nLeila Hurmalaisen posliininmaalaus- ja\nHannaleena Tauron savityöryhmien\nyhteisnäyttely 31.3. alkaen. \nTervetuloa ihastelemaan!
URL:https://blog.vaarakirjastot.fi/event/viiva-vari-virio-ja-saviset-haaveet/
LOCATION:Tohmajärven kirjasto\, Kirkkotie 10 a\, Tohmajärvi\, 82600\, Suomi
CATEGORIES:nayttelyt,rss2,Tohmajärvi
END:VEVENT
BEGIN:VEVENT
DTSTART;TZID=Europe/Helsinki:20260331T150000
DTEND;TZID=Europe/Helsinki:20260428T170000
DTSTAMP:20260422T013331
CREATED:20260331T103649Z
LAST-MODIFIED:20260402T110157Z
UID:27464-1774969200-1777395600@blog.vaarakirjastot.fi
SUMMARY:Ympäristötekoja kylillä-näyttely
DESCRIPTION:Näyttely 31.3.-28.4.2026 Liperin kirjastossa (Keskustie 12) \nTervetuloa tutustumaan kylien ympäristötekoihin! Näyttely esittelee Pohjois-Karjalan kylillä tehtyjä\, ympäristön kuntoa parantavia käytännön tekoja sekä Pohjois-Karjalan biosfäärialueen toimintaa. Esittelyssä myös puutarhan ekologiset katteet\, erilaiset viljelykokeilut sekä asiaa arjen kiertotaloudesta ja muoveista. \nAvajaiset tiistaina 31.3. klo 15 – 16 \nAvajaisissa pääset tutustumaan kylien ympäristötyöhön ja muovittomaan taimikasvatukseen. Voit myös kylvää yrttejä itsetehtyyn paperipottiin ja tutustua muovittomaan taimikasvatukseen. \nNäyttelyn järjestää Kestävät kylät -hanke yhteistyössä Maaseudun arjen kestävät kiertotalousratkaisut -hankkeen ja Pohjois-Karjalan biosfäärialueen kanssa.
URL:https://blog.vaarakirjastot.fi/event/ymparistotekoja-kylilla-nayttely-3/
LOCATION:Liperin kirjasto\, Keskustie 12\, Liperi\, 83100\, Suomi
CATEGORIES:Liperi,nayttelyt,rss2
END:VEVENT
BEGIN:VEVENT
DTSTART;TZID=Europe/Helsinki:20260401T070000
DTEND;TZID=Europe/Helsinki:20260428T150000
DTSTAMP:20260422T013331
CREATED:20260323T162321Z
LAST-MODIFIED:20260420T180400Z
UID:27362-1775026800-1777388400@blog.vaarakirjastot.fi
SUMMARY:"HALUAN ESIIN!" -nukketeatterinäyttely
DESCRIPTION:”HALUAN ESIIN!” Varastoihin ja hyllyihin unohdetut nuket tahtovat näkyville! \nNukketeatterinäyttely on esillä Hammaslahden kirjastolla 1.–28.4.2026. Näyttelyn avajaisia vietetään keskiviikkona 8.4.\, jolloin näyttelyn koonnut Jaana Palve-Karppanen on paikalla kirjaston aukioloaikana klo 13–18. \nLapsilla mahdollisuus kokeilla erilaisia teatterinukkeja\, joita on kirjaston lastenosastolla matkalaukussa. \nNäyttely koostuu Kouvolan Teatterista ja Helsingin Vihreästä Omenasta löydetyistä ja pelastetuista nukeista ja niiden esillepanosta. \nToisena punaisena lankana näyttelyssä kulkee Palveen suvun nukketeatteriperinteen siirtyminen isältä tyttärelle. Tuomas Palve toimi 1950-luvun lopulla nukkenäyttelijänä Suomalaisessa Nukketeatterissa. Teatteri oli aikansa ensimmäisiä kiertäviä nukketeattereita Suomessa. Muutettuaan Kouvolaan 1970-luvun alussa pankinjohtajana toiminut Tuomas Palve ohjasi Kouvolan teatteriin nukketeatteriesityksiä. Myöhemmin tytär Jaana Palve-Karppanen jatkoi nukketeatterin tekemistä joensuulaisessa Satuteatteri Punahilkassa ja hän toimi myös TV2:n Seesamtie-lastenohjelmassa Alfa-nuken toisena nukenkäsittelijänä vuosina 1997-1998. \nNäyttelyssä on esillä nukkeja myös Satuteatteri Punahilkalta ja Jaana Palve-Karppaselta. \nLämpimästi tervetuloa nukketeatterin kiehtovaan maailmaan!
URL:https://blog.vaarakirjastot.fi/event/haluan-esiin-nukketeatterinayttely/
LOCATION:Hammaslahden kirjasto\, Opettajantie 1\, Hammaslahti\, 82200
CATEGORIES:Hammaslahti,lapset,nayttelyt,rss2
END:VEVENT
BEGIN:VEVENT
DTSTART;TZID=Europe/Helsinki:20260401T100000
DTEND;TZID=Europe/Helsinki:20260430T120000
DTSTAMP:20260422T013331
CREATED:20260401T093306Z
LAST-MODIFIED:20260401T110025Z
UID:27492-1775037600-1777550400@blog.vaarakirjastot.fi
SUMMARY:Pisankamunien pääsiäisnäyttely 1.4. -30.4.
DESCRIPTION:Pisankamunien pääsiäisnäyttely1.-30.4.2026Marjatta Haapaniemi\, JoensuuMunat ovat tyhjennettyjä kanan-\, ankan- ja hanhenmunia\, joihin on käsin maalattu/kirjoitettu.Värit ovat erityisvärejä pisankamunien koristeluun.
URL:https://blog.vaarakirjastot.fi/event/27492/
LOCATION:Kiteen kirjasto\, Opintie 9\, Kitee\, 82500
CATEGORIES:Kitee,nayttelyt,rss2
END:VEVENT
BEGIN:VEVENT
DTSTART;TZID=Europe/Helsinki:20260401T120000
DTEND;TZID=Europe/Helsinki:20260430T130000
DTSTAMP:20260422T013331
CREATED:20260401T105859Z
LAST-MODIFIED:20260401T105859Z
UID:27513-1775044800-1777554000@blog.vaarakirjastot.fi
SUMMARY:Kiteen kamerakerhon valokuvanäyttely 1.4.-30.4.
DESCRIPTION:Tervetuloa ihastelemaan Kiteen kamerakerhon upeita valokuavia.
URL:https://blog.vaarakirjastot.fi/event/kiteen-kamerakerhon-valokuvanayttely-1-4-30-4/
LOCATION:Kiteen kirjasto\, Opintie 9\, Kitee\, 82500
CATEGORIES:Kitee,nayttelyt,rss2
END:VEVENT
BEGIN:VEVENT
DTSTART;TZID=Europe/Helsinki:20260401T130000
DTEND;TZID=Europe/Helsinki:20260429T170000
DTSTAMP:20260422T013331
CREATED:20260401T060414Z
LAST-MODIFIED:20260401T060414Z
UID:27480-1775048400-1777482000@blog.vaarakirjastot.fi
SUMMARY:Pähkinä ja kaverit
DESCRIPTION:Pähkinä ja kaverit -valokuvanäyttely Enon kirjastossa 1.-29.4.2026
URL:https://blog.vaarakirjastot.fi/event/pahkina-ja-kaverit/
LOCATION:Enon kirjasto\, Alapappilantie 6 d\, Eno\, 81200\, Suomi
CATEGORIES:Eno,nayttelyt,rss2
END:VEVENT
BEGIN:VEVENT
DTSTART;TZID=Europe/Helsinki:20260401T150000
DTEND;TZID=Europe/Helsinki:20260429T170000
DTSTAMP:20260422T013331
CREATED:20260326T112859Z
LAST-MODIFIED:20260326T112859Z
UID:27398-1775055600-1777482000@blog.vaarakirjastot.fi
SUMMARY:Valokuvanäyttely Wanhoja kuvia Höljäkästä
DESCRIPTION:Nurmeksen pääkirjastossa on esillä vanhoja valokuvia Höljäkästä koko huhtikuun ajan. Tervetuloa!
URL:https://blog.vaarakirjastot.fi/event/valokuvanayttely-wanhoja-kuvia-holjakasta/
LOCATION:Nurmeksen pääkirjasto\, Kötsintie 2\, Nurmes\, 75500\, Suomi
CATEGORIES:nayttelyt,Nurmes,rss2
END:VEVENT
BEGIN:VEVENT
DTSTART;TZID=Europe/Helsinki:20260402T080000
DTEND;TZID=Europe/Helsinki:20260430T150000
DTSTAMP:20260422T013331
CREATED:20260417T132505Z
LAST-MODIFIED:20260417T132505Z
UID:27706-1775116800-1777561200@blog.vaarakirjastot.fi
SUMMARY:Norssin lukion valokuvanäyttely
DESCRIPTION:Norssin valokuvaajien näyttely  \nJoensuun pääkirjaston ala-aulassa huhtikuun ajan! \nValokuvataulujen aiheena on maisema\, eläimet tai ihmiset. Kohde esitetään positiivisessa valossa ja taulut välittävät katsojalle kuvaajan ikuistamia hienoja hetkiä kulttuuriympäristössä tai luonnossa. \nTervetuloa ihastelemaan lukiolaisten töitä.
URL:https://blog.vaarakirjastot.fi/event/norssin-lukion-valokuvanayttely/
LOCATION:Joensuun pääkirjasto
CATEGORIES:nayttelyt,rss2
END:VEVENT
BEGIN:VEVENT
DTSTART;TZID=Europe/Helsinki:20260402T080000
DTEND;TZID=Europe/Helsinki:20260430T160000
DTSTAMP:20260422T013331
CREATED:20260402T110356Z
LAST-MODIFIED:20260402T110356Z
UID:27533-1775116800-1777564800@blog.vaarakirjastot.fi
SUMMARY:Oppilastöiden näyttely
DESCRIPTION:Huhtikuussa on nähtävillä Juuan kansalaisopiston oppilastöiden näyttely kirjaston näyttelytilassa. Vaikka kuva kertoo enemmän kuin tuhat sanaa\, niin nämä on nähtävä! \nNäyttely on auki huhtikuun loppuun saakka kirjaston aukioloaikoina. \nTervetuloa!
URL:https://blog.vaarakirjastot.fi/event/oppilastoiden-nayttely/
LOCATION:Juuan kirjasto\, Poikolantie 6 B\, Juuka
CATEGORIES:Juuka,nayttelyt,rss2
END:VEVENT
BEGIN:VEVENT
DTSTART;TZID=Europe/Helsinki:20260407T100000
DTEND;TZID=Europe/Helsinki:20260504T160000
DTSTAMP:20260422T013331
CREATED:20260401T110457Z
LAST-MODIFIED:20260408T113421Z
UID:27511-1775556000-1777910400@blog.vaarakirjastot.fi
SUMMARY:Maailma jota ei ole - Teksti-installaatio vaietusta historiasta
DESCRIPTION:Maailma jota ei ole – Pohjoiskarjalaista sateenkaarihistoriaa Lieksan kirjaston näyttelytilassa 7.– 29.4.2026\n\n\n\n\n\n\nVuokko Sajaniemen teksti-installaatio Maailma jota ei ole on haastatteluihin pohjautuvaa dokumentaarista sanataidetta. Näyttelytekstien pohjana on ihmisten autenttinen puhe\, joka on kaunokirjallistettu säemuotoon ja koottu installaatioksi.\n\n\n\n\nMaailma jota ei ole kiertää vuosina 2025–2026 Pohjois-Karjalan alueella. Näyttelyn ensiesitys oli kesäkuussa 2025 Joensuussa Taidekeskus Ahjossa. Hanketta on tukenut Koneen Säätiö.\n\n\n\n\nNäyttelytila on avoinna kirjaston palveluaikoina: ma-ti klo 10-18 ja ke-pe klo 10-16. Tervetuloa!
URL:https://blog.vaarakirjastot.fi/event/maaima-jota-ei-ole-teksti-installaatio-vaietusta-historiasta/
LOCATION:Lieksan kirjasto\, Urheilukatu 4\, Lieksa\, 81700\, Suomi
CATEGORIES:Lieksa,nayttelyt,rss2
ORGANIZER;CN="Lieksan kirjasto":MAILTO:kirjasto@lieksa.fi
END:VEVENT
BEGIN:VEVENT
DTSTART;TZID=Europe/Helsinki:20260413T090000
DTEND;TZID=Europe/Helsinki:20260429T160000
DTSTAMP:20260422T013331
CREATED:20260410T105228Z
LAST-MODIFIED:20260410T105406Z
UID:27585-1776070800-1777478400@blog.vaarakirjastot.fi
SUMMARY:Outokummun Kuvataidetta rennosti -kurssin kevättaidenäyttely
DESCRIPTION:Outokummun kirjaston galleriassa on esillä huhtikuun ajan Kuvataidetta rennosti -kurssin kevätnäyttely. \n”Kuvataidetta rennosti on Joensuun kansalaisopiston järjestämä kurssi\, joka pyörii syksyisin ja keväisin Outokummussa\, Kummun koulun kuvataideluokassa. Ryhmässä vallitsee matalan kynnyksen ja rennon harrastamisen kulttuuri sekä kannustava ilmapiiri\, jossa jokaisella on vapaus ilmaista itseään omalla kauniilla tavallaan. \nKurssiin kuuluu joka kevät järjestettävä kevättaidenäyttely. Taidenäyttely seuraa kurssin rentouden periaatteita\, antaen opiskelijoille vapauden valita omia suosikkitöitään näytille pantaviksi\, niin uusia kuin vanhoja!” \nTervetuloa tutustumaan näyttelyyn!
URL:https://blog.vaarakirjastot.fi/event/outokummun-kuvataidetta-rennosti-kurssin-kevattaidenayttely/
LOCATION:Outokummun kirjasto\, Koulukatu 7\, Outokumpu\, 83500\, Suomi
CATEGORIES:nayttelyt,Outokumpu,rss2
END:VEVENT
BEGIN:VEVENT
DTSTART;TZID=Europe/Helsinki:20260413T120000
DTEND;TZID=Europe/Helsinki:20260427T140000
DTSTAMP:20260422T013331
CREATED:20251215T101529Z
LAST-MODIFIED:20251215T101529Z
UID:25832-1776081600-1777298400@blog.vaarakirjastot.fi
SUMMARY:Digiohjausta ikäihmisille
DESCRIPTION:Joen Severi Ry järjestää maksutonta digiohjausta ikäihmisille pääkirjastolla maanantaisin klo 12-14. \nApua ja ohjausta saa tietotekniikan perusongelmissa esim. puhelimen\, tietokoneen tai tabletin kanssa. \nVain ajanvarauksella\, voit varata ajan soittamalla numeroon 050 386 6678 tai 050 331 8052. \nOhjausta ei ole 6.4. \nHuhtikuun ohjaukset ovat 13.4.\, 20.4. ja 27.4.
URL:https://blog.vaarakirjastot.fi/event/digiohjausta-ikaihmisille-7/
LOCATION:Joensuun pääkirjasto
CATEGORIES:muu_tapahtuma,rss2
END:VEVENT
BEGIN:VEVENT
DTSTART;TZID=Europe/Helsinki:20260415T100000
DTEND;TZID=Europe/Helsinki:20260430T190000
DTSTAMP:20260422T013331
CREATED:20260416T124428Z
LAST-MODIFIED:20260416T124428Z
UID:27675-1776247200-1777575600@blog.vaarakirjastot.fi
SUMMARY:Syvyyssuunnassa
DESCRIPTION:Joensuun seudun kansalaisopisto Kiihtelysvaaran\, Mönnin ja Tuupovaaran aikuisten kuvataide on koonnut näyttelyn\, joka on esillä Lehmon kirjastossa kirjaston aukioloaikoina. \nNäyttelyä pääsee katsomaan ilmaiseksi ja tila on vapaa kaikille. \n  \nTervetuloa!
URL:https://blog.vaarakirjastot.fi/event/syvyyssuunnassa/
LOCATION:Lehmon kirjasto\, Kylmäojantie 49\, Lehmo\, 80710\, Suomi
CATEGORIES:Lehmo,nayttelyt,rss2
END:VEVENT
BEGIN:VEVENT
DTSTART;TZID=Europe/Helsinki:20260421T160000
DTEND;TZID=Europe/Helsinki:20260509T160000
DTSTAMP:20260422T013331
CREATED:20260420T114127Z
LAST-MODIFIED:20260420T114136Z
UID:27721-1776787200-1778342400@blog.vaarakirjastot.fi
SUMMARY:Koraani -kirjanäyttely
DESCRIPTION:Ahmadiyya-yhteisö on tuonut Pyhä Koraani -näyttelyn useisiin suomalaisiin kirjastoihin. Näyttely on esillä Joensuun pääkirjaston Taiteiden aukiolla (Koskikatu 25\, 2. krs) 21.4. – 9.5.2026 kirjaston aukioloaikoina (ma-pe 9-19 ja la 10-16). Näyttelyn avajaisia vietetään tiistaina 21.4. klo 16. Lämpimästi tervetuloa tutustumaan käännöksiin.
URL:https://blog.vaarakirjastot.fi/event/koraani-kirjanayttely/
LOCATION:Joensuun pääkirjasto\, Taiteiden aukio\, Koskikatu 25\, Joensuu\, 80100\, Suomi
CATEGORIES:kirjallisuus,nayttelyt,rss2
END:VEVENT
BEGIN:VEVENT
DTSTART;TZID=Europe/Helsinki:20260422T130000
DTEND;TZID=Europe/Helsinki:20260422T140000
DTSTAMP:20260422T013331
CREATED:20260102T132118Z
LAST-MODIFIED:20260102T132118Z
UID:26105-1776862800-1776866400@blog.vaarakirjastot.fi
SUMMARY:Ylämyllyn lukupiiri: Auschwitzin ompelijattaret
DESCRIPTION:Tervetuloa mukaan lukupiiriin keskustelemaan kirjoista. Ei ilmoittautumista\, vapaa pääsy! \nVaraa kirja täältä. \nVaikuttava tositarina naisista\, jotka ompelivat natseille näyttäviä muotiluomuksia säästyäkseen kuolemalta. \nJoukko naisvankeja määrättiin Auschwitz-Birkenaun tuhoamisleirillä työskentelemään komendantin vaimon Hedwig Hössin perustamaan ompelimoon. Laajaan tutkimusmateriaaliin ja useisiin aiemmin julkaisemattomiin lähteisiin pohjautuva Auschwitzin ompelijattaret kertoo natsien muotihuoneessa työskennelleiden naisten uskomattoman tarinan. \nKeskitysleirin ompelimo palveli niin leirin vartijoita perheineen kuin SS-upseereita ja näiden vaimoja. Murhattujen vankien matkalaukuista otettuja laadukkaita vaatteita korjailtiin uusille omistajilleen sopiviksi ja uusia muotiluomuksia ommeltiin tilauksesta korkea-arvoisten upseerien rouville käytettäviksi lukuisissa juhlissa ja seurapiiritapahtumissa. \nOmpelijoista viimeinen elossa oleva ehti antaa kirjaa varten haastattelun\, jossa hän kuvailee tuon makaaberin muotiateljeen arkea. \nKirja kertoo myös\, miten tärkeä rooli ompelijattarilla oli leirin vastarintaliikkeen verkostossa.
URL:https://blog.vaarakirjastot.fi/event/ylamyllyn-lukupiiri-auschwitzin-ompelijattaret/
LOCATION:Ylämyllyn kirjasto\, Laavupolku 2\, Ylämylly\, 80400\, Suomi
CATEGORIES:aikuiset,kirjallisuus,rss2,Ylämylly
END:VEVENT
BEGIN:VEVENT
DTSTART;TZID=Europe/Helsinki:20260422T130000
DTEND;TZID=Europe/Helsinki:20260422T140000
DTSTAMP:20260422T013331
CREATED:20260414T154023Z
LAST-MODIFIED:20260414T154127Z
UID:27645-1776862800-1776866400@blog.vaarakirjastot.fi
SUMMARY:Ikäihmisten digituki - Sinustako vertaisopastaja?
DESCRIPTION:Joen Severi ry kutsuu keskustelemaan \nIKÄIHMISTEN DIGITUESTA RÄÄKKYLÄN KIRJASTOLLE \nOletko huolissasi ikäihmisten digitaidoista Rääkkylässä? \nEtsimme vapaaehtoisia vertaisopastajia toiminnan laajentamiseksi Rääkkylään. \nTule keskustelemaan lisää Rääkkylän kirjastolle (Kinnulantie 2) keskiviikkona 22.4. kello 13.00. \nVoit toimia vapaaehtoisena esimerkiksi muutaman tunnin kuukaudessa. Työntekijämme ovat vertaisopastajien tukena ja kouluttavat vapaaehtoisia jatkuvasti. \nTervetuloa!
URL:https://blog.vaarakirjastot.fi/event/27645/
LOCATION:Rääkkylän kirjasto\, Kinnulantie 2\, Rääkkylä\, 82300\, Suomi
CATEGORIES:muu_tapahtuma,Rääkkylä,rss2
END:VEVENT
BEGIN:VEVENT
DTSTART;TZID=Europe/Helsinki:20260422T140000
DTEND;TZID=Europe/Helsinki:20260422T144500
DTSTAMP:20260422T013331
CREATED:20260109T121759Z
LAST-MODIFIED:20260128T132629Z
UID:26211-1776866400-1776869100@blog.vaarakirjastot.fi
SUMMARY:Virkisty laulaen: Kevätlauluja
DESCRIPTION:Kevään 2026 viimeinen yhteislaulutuokio klo 14-14.45 Hammaslahden kirjastossa.\nAiheena kevätlaulut. \n\n\n\nVapaa pääsy!
URL:https://blog.vaarakirjastot.fi/event/virkisty-laulaen-kevatlauluja/
LOCATION:Hammaslahden kirjasto\, Opettajantie 1\, Hammaslahti\, 82200
CATEGORIES:aikuiset,Hammaslahti,musiikki,muu_tapahtuma,rss2
END:VEVENT
BEGIN:VEVENT
DTSTART;TZID=Europe/Helsinki:20260422T150000
DTEND;TZID=Europe/Helsinki:20260422T160000
DTSTAMP:20260422T013331
CREATED:20260324T122347Z
LAST-MODIFIED:20260330T111436Z
UID:27375-1776870000-1776873600@blog.vaarakirjastot.fi
SUMMARY:Kirjailijavieraana Kyllikki Kerola
DESCRIPTION:Lieksan kirjastossa keskiviikkona 22.4.2026 kello 15 kirjailijavieraana Kyllikki Kerola.\nLieksassa asuva Kerola on tehnyt uran erityisopettajana. Tilaisuudessa hän esittelee kirjallisen tuotantonsa ja kertoo siitä miten kukin kirja on johtanut seuraavaan. \nKerola on myös Luokkakaveri-ohjelman kehittäjä. \nTilaisuudessa kanteletta soittaa Elisa Kerola. \nLämpimästi tervetuloa!
URL:https://blog.vaarakirjastot.fi/event/kirjailijavieraana-kyllikki-kerola/
LOCATION:Lieksan kirjasto\, Urheilukatu 4\, Lieksa\, 81700\, Suomi
CATEGORIES:kirjallisuus,Lieksa,rss2
ORGANIZER;CN="Lieksan kirjasto":MAILTO:kirjasto@lieksa.fi
END:VEVENT
BEGIN:VEVENT
DTSTART;TZID=Europe/Helsinki:20260422T164500
DTEND;TZID=Europe/Helsinki:20260422T174500
DTSTAMP:20260422T013331
CREATED:20250702T071028Z
LAST-MODIFIED:20260107T092531Z
UID:23675-1776876300-1776879900@blog.vaarakirjastot.fi
SUMMARY:Lukulemmikki Lumikin vastaanotto
DESCRIPTION:Lukukoira Hupi ja lukulemmikki Lumikki ottavat lukijoita vastaan pari kertaa kuussa Reijolan kirjastolla. \nLukukoiratoiminta sopii erityisesti lukemaan opetteleville lapsille. Lukutuokio on koiran ja lapsen välinen yhteinen\, rauhallinen hetki. \nVaraa aika Reijolan kirjastosta sähköpostitse reijolankirjasto@joensuu.fi tai puhelimitse 050 431 4921. Lukuaika noin 15 minuuttia.
URL:https://blog.vaarakirjastot.fi/event/lukukoirailta-4/
LOCATION:Reijolan kirjasto\, Urheilupuistontie 2\, Joensuu\, 80330\, Finland
CATEGORIES:lapset,Reijola,rss2
END:VEVENT
BEGIN:VEVENT
DTSTART;TZID=Europe/Helsinki:20260422T170000
DTEND;TZID=Europe/Helsinki:20260422T180000
DTSTAMP:20260422T013331
CREATED:20260330T114541Z
LAST-MODIFIED:20260330T114541Z
UID:27436-1776877200-1776880800@blog.vaarakirjastot.fi
SUMMARY:Kirjakahvila Kahvibaari Piiukassa
DESCRIPTION:Tervetuloa kirjakahvilaan!\n\nKirjakahvila Kahvibaari Piiukassa keskiviikkona 22.4.2026 klo 17–18\n(Kahvibaari Piiukka\, Nurmijärventie 154\, Jongunjoki)\n\nLuvassa rentoa kirjallista keskustelua ja lämmintä juotavaa.Mahdollisuus ostaa myös pientä purtavaa.\nLukupiirikirjana Miika Nousiaisen Ratakierros Varaa omasi verkkokirjastosta: https://vaara.finna.fi/Record/vaarakirjastot.11743092?sid=5303617890\n\nLämpimästi tervetuloa mukaan!
URL:https://blog.vaarakirjastot.fi/event/kirjakahvila-kahvibaari-piiukassa-4/
LOCATION:Kahvibaari Piiukka\, Nurmijärventie 154\, Jongunjoki\, 81970\, Finland
CATEGORIES:kirjallisuus,Lieksa,rss2
ORGANIZER;CN="Lieksan kirjasto":MAILTO:kirjasto@lieksa.fi
END:VEVENT
BEGIN:VEVENT
DTSTART;TZID=Europe/Helsinki:20260422T180000
DTEND;TZID=Europe/Helsinki:20260422T190000
DTSTAMP:20260422T013331
CREATED:20251205T102741Z
LAST-MODIFIED:20251205T102741Z
UID:25701-1776880800-1776884400@blog.vaarakirjastot.fi
SUMMARY:Väsyneiden lukupiiri: Sinua\, sinua
DESCRIPTION:Onko kirjan lukemisesta aikaa? Estääkö elämäntilanteesi pitkään tarinaan uppoutumisen? Kaipaatko muuten lyhyttä ja helppoa luettavaa? Tule mukaan väsyneiden lukupiiriin! \nHuhtikuun kirjana on Petri Tammisen Sinua\, sinua (143 sivua). Nuori mies janoaa rakkautta. Kihlajaismatkalla Prahassa 1988 hän ihastuu tulisesti paikalliseen naiseen. Alkaa rakkaus yli rautaesiripun. Se ei voi kestää muttei myöskään päättyä. \nVäsyneiden lukupiirissä luetaan lyhyitä ja helppoja kirjoja ja keskustellaan niistä yhdessä rennolla otteella. Lukupiiriin ovat tervetulleita kaikenlaiset lukijat eikä siihen tarvitse ilmoittautua ennakkoon. Lukupiiri kokoontuu Joensuun pääkirjaston Taiteiden aukiolla (2. kerros). \nKevät 2026:\nKe 21.1. klo 18 Magdalena Hai: Sarvijumala (162 s.) tai Tuija Takala: Sarvijumala (selko\, 130 s.)\nKe 18.2. klo 18 Petteri Kilpinen: Irtiotto – Tarina toisesta mahdollisuudesta (184 s.)\nKe 18.3. klo 18 Reetta Niemensivu: Maalarisiskot (118 s.)\nKe 22.4. klo 18 Petri Tamminen: Sinua\, sinua (143 s.)\nKe 20.5. klo 18 Becky Chambers: Veisu luonnonkoneille (175 s.)\nKe 10.6. klo 18 Hannele Lampela: Prinsessa Pikkiriikki (77 s.)
URL:https://blog.vaarakirjastot.fi/event/vasyneiden-lukupiiri-sinua-sinua/
LOCATION:Joensuun pääkirjasto
CATEGORIES:kirjallisuus,rss2
END:VEVENT
END:VCALENDAR